BEGIN:VCALENDAR
VERSION:2.0
PRODID:SchoolNow
CALSCALE:GREGORIAN
BEGIN:VEVENT
UID:09dc24de-1fe6-11f1-b923-0a58a9feac02
DTSTAMP:20260421T090040Z
SUMMARY:JV Baseball v. Dove Creek (Double Header)
LOCATION:Parque de Vida - Rotary Ball Fields\, 540 Roger Smith Ave\, Cortez
 \, CO 81321\, USA
URL;VALUE=URI:https://www.cortez.k12.co.us/our-schools/mchs/calendar/891798
 1/jv-baseball-v-dove-creek-double-header
DTSTART:20260317T210000Z
DTEND:20260318T003000Z
END:VEVENT
END:VCALENDAR
