BEGIN:VCALENDAR
VERSION:2.0
PRODID:SchoolNow
CALSCALE:GREGORIAN
BEGIN:VEVENT
UID:09dc2768-1fe6-11f1-b556-0a58a9feac02
DTSTAMP:20260421T090040Z
SUMMARY:Girls Golf @ Grand Junction
LOCATION:Devil's Thumb Golf Course\, 9900 Devils Thumb Rd\, Delta\, CO 8141
 6\, USA
URL;VALUE=URI:https://www.cortez.k12.co.us/our-schools/mchs/calendar/891798
 3/girls-golf-grand-junction
DTSTART:20260331T160000Z
DTEND:20260401T020000Z
END:VEVENT
END:VCALENDAR
