BEGIN:VCALENDAR
VERSION:2.0
PRODID:SchoolNow
CALSCALE:GREGORIAN
BEGIN:VEVENT
UID:09dc31ea-1fe6-11f1-b289-0a58a9feac02
DTSTAMP:20260421T090041Z
SUMMARY:Girls Soccer Practice
LOCATION:Montezuma-Cortez High School\, 418 Sligo St\, Cortez\, CO 81321\, 
 USA
URL;VALUE=URI:https://www.cortez.k12.co.us/our-schools/mchs/calendar/891799
 3/girls-soccer-practice
DTSTART:20260318T223000Z
DTEND:20260319T003000Z
END:VEVENT
END:VCALENDAR
