BEGIN:VCALENDAR
VERSION:2.0
PRODID:SchoolNow
CALSCALE:GREGORIAN
BEGIN:VEVENT
UID:0a69a642-1fe6-11f1-b32c-0a58a9feac02
DTSTAMP:20260421T090041Z
SUMMARY:Girls Soccer Practice
LOCATION:Montezuma-Cortez High School\, 418 Sligo St\, Cortez\, CO 81321\, 
 USA
URL;VALUE=URI:https://www.cortez.k12.co.us/our-schools/mchs/calendar/891799
 9/girls-soccer-practice
DTSTART:20260401T223000Z
DTEND:20260402T003000Z
END:VEVENT
END:VCALENDAR
