BEGIN:VCALENDAR
VERSION:2.0
PRODID:SchoolNow
CALSCALE:GREGORIAN
BEGIN:VEVENT
UID:0a7ed922-1fe6-11f1-bb74-0a58a9feac02
DTSTAMP:20260421T090041Z
SUMMARY:Girls Golf Practice
LOCATION:Conquistador Golf Course\, 2018 N Dolores Rd\, Cortez\, CO 81321\,
  USA
URL;VALUE=URI:https://www.cortez.k12.co.us/our-schools/mchs/calendar/891802
 0/girls-golf-practice
DTSTART:20260306T000000Z
DTEND:20260306T013000Z
END:VEVENT
END:VCALENDAR
