BEGIN:VCALENDAR
VERSION:2.0
PRODID:SchoolNow
CALSCALE:GREGORIAN
BEGIN:VEVENT
UID:0a7eeaa2-1fe6-11f1-8420-0a58a9feac02
DTSTAMP:20260421T090041Z
SUMMARY:Girls Golf Practice
LOCATION:Conquistador Golf Course\, 2018 N Dolores Rd\, Cortez\, CO 81321\,
  USA
URL;VALUE=URI:https://www.cortez.k12.co.us/our-schools/mchs/calendar/891803
 7/girls-golf-practice
DTSTART:20260407T230000Z
DTEND:20260408T003000Z
END:VEVENT
END:VCALENDAR
