BEGIN:VCALENDAR
VERSION:2.0
PRODID:SchoolNow
CALSCALE:GREGORIAN
BEGIN:VEVENT
UID:0a7ef2a4-1fe6-11f1-9b9f-0a58a9feac02
DTSTAMP:20260421T090041Z
SUMMARY:Girls Golf Practice
LOCATION:Conquistador Golf Course\, 2018 N Dolores Rd\, Cortez\, CO 81321\,
  USA
URL;VALUE=URI:https://www.cortez.k12.co.us/our-schools/mchs/calendar/891804
 6/girls-golf-practice
DTSTART:20260422T230000Z
DTEND:20260423T003000Z
END:VEVENT
END:VCALENDAR
