BEGIN:VCALENDAR
VERSION:2.0
PRODID:SchoolNow
CALSCALE:GREGORIAN
BEGIN:VEVENT
UID:0a7ef70e-1fe6-11f1-a50b-0a58a9feac02
DTSTAMP:20260421T090041Z
SUMMARY:Girls Golf Practice
LOCATION:Conquistador Golf Course\, 2018 N Dolores Rd\, Cortez\, CO 81321\,
  USA
URL;VALUE=URI:https://www.cortez.k12.co.us/our-schools/mchs/calendar/891805
 1/girls-golf-practice
DTSTART:20260430T230000Z
DTEND:20260501T003000Z
END:VEVENT
END:VCALENDAR
