BEGIN:VCALENDAR
VERSION:2.0
PRODID:SchoolNow
CALSCALE:GREGORIAN
BEGIN:VEVENT
UID:0a7ef7f4-1fe6-11f1-a539-0a58a9feac02
DTSTAMP:20260421T090041Z
SUMMARY:Girls Golf Practice
LOCATION:Conquistador Golf Course\, 2018 N Dolores Rd\, Cortez\, CO 81321\,
  USA
URL;VALUE=URI:https://www.cortez.k12.co.us/our-schools/mchs/calendar/891805
 2/girls-golf-practice
DTSTART:20260504T230000Z
DTEND:20260505T003000Z
END:VEVENT
END:VCALENDAR
