BEGIN:VCALENDAR
VERSION:2.0
PRODID:SchoolNow
CALSCALE:GREGORIAN
BEGIN:VEVENT
UID:0aaa3e82-1fe6-11f1-b17f-0a58a9feac02
DTSTAMP:20260421T090041Z
SUMMARY:Baseball Practice
LOCATION:Parque de Vida - Rotary Ball Fields\, 540 Roger Smith Ave\, Cortez
 \, CO 81321\, USA
URL;VALUE=URI:https://www.cortez.k12.co.us/our-schools/mchs/calendar/891806
 5/baseball-practice
DTSTART:20260317T224500Z
DTEND:20260318T003000Z
END:VEVENT
END:VCALENDAR
