BEGIN:VCALENDAR
VERSION:2.0
PRODID:SchoolNow
CALSCALE:GREGORIAN
BEGIN:VEVENT
UID:0aaa5746-1fe6-11f1-b7dd-0a58a9feac02
DTSTAMP:20260421T090041Z
SUMMARY:Baseball Practice
LOCATION:Parque de Vida - Rotary Ball Fields\, 540 Roger Smith Ave\, Cortez
 \, CO 81321\, USA
URL;VALUE=URI:https://www.cortez.k12.co.us/our-schools/mchs/calendar/891809
 2/baseball-practice
DTSTART:20260506T224500Z
DTEND:20260507T003000Z
END:VEVENT
END:VCALENDAR
