BEGIN:VCALENDAR
VERSION:2.0
PRODID:SchoolNow
CALSCALE:GREGORIAN
BEGIN:VEVENT
UID:f28e5b10-2249-11f1-8ccd-0affc15b34d3
DTSTAMP:20260421T090040Z
SUMMARY:E-Sports v. Elbert High School
LOCATION:Montezuma-Cortez High School\, 418 Sligo St\, Cortez\, CO 81321\, 
 USA
URL;VALUE=URI:https://www.cortez.k12.co.us/our-schools/mchs/calendar/892574
 1/e-sports-v-elbert-high-school
DTSTART:20260317T220000Z
DTEND:20260317T230000Z
END:VEVENT
END:VCALENDAR
