BEGIN:VCALENDAR
VERSION:2.0
PRODID:SchoolNow
CALSCALE:GREGORIAN
BEGIN:VEVENT
UID:e9674884-227c-11f1-910f-0affed9a5d31
DTSTAMP:20260421T090040Z
SUMMARY:Theater Reheasal
LOCATION:Montezuma-Cortez High School\, 418 Sligo St\, Cortez\, CO 81321\, 
 USA
URL;VALUE=URI:https://www.cortez.k12.co.us/our-schools/mchs/calendar/892638
 3/theater-reheasal
DTSTART:20260318T223000Z
DTEND:20260319T003000Z
END:VEVENT
END:VCALENDAR
