BEGIN:VCALENDAR
VERSION:2.0
PRODID:SchoolNow
CALSCALE:GREGORIAN
BEGIN:VEVENT
UID:e9674988-227c-11f1-87af-0affed9a5d31
DTSTAMP:20260421T090040Z
SUMMARY:Theater Reheasal
LOCATION:Montezuma-Cortez High School\, 418 Sligo St\, Cortez\, CO 81321\, 
 USA
URL;VALUE=URI:https://www.cortez.k12.co.us/our-schools/mchs/calendar/892638
 4/theater-reheasal
DTSTART:20260319T223000Z
DTEND:20260320T003000Z
END:VEVENT
END:VCALENDAR
