BEGIN:VCALENDAR
VERSION:2.0
PRODID:SchoolNow
CALSCALE:GREGORIAN
BEGIN:VEVENT
UID:e97029ea-227c-11f1-9c0a-0affed9a5d31
DTSTAMP:20260421T090041Z
SUMMARY:Jazz Band Practice
LOCATION:Montezuma-Cortez High School\, 418 Sligo St\, Cortez\, CO 81321\, 
 USA
URL;VALUE=URI:https://www.cortez.k12.co.us/our-schools/mchs/calendar/892639
 7/jazz-band-practice
DTSTART:20260429T130000Z
DTEND:20260429T135500Z
END:VEVENT
END:VCALENDAR
