BEGIN:VCALENDAR
VERSION:2.0
PRODID:SchoolNow
CALSCALE:GREGORIAN
BEGIN:VEVENT
UID:e9702f80-227c-11f1-8615-0affed9a5d31
DTSTAMP:20260421T090041Z
SUMMARY:Jazz Band Practice
LOCATION:Montezuma-Cortez High School\, 418 Sligo St\, Cortez\, CO 81321\, 
 USA
URL;VALUE=URI:https://www.cortez.k12.co.us/our-schools/mchs/calendar/892640
 3/jazz-band-practice
DTSTART:20260520T130000Z
DTEND:20260520T135500Z
END:VEVENT
END:VCALENDAR
