BEGIN:VCALENDAR
VERSION:2.0
PRODID:SchoolNow
CALSCALE:GREGORIAN
BEGIN:VEVENT
UID:e97034bc-227c-11f1-95ae-0affed9a5d31
DTSTAMP:20260421T150540Z
SUMMARY:Jazz Band Practice
LOCATION:Montezuma-Cortez High School\, 418 Sligo St\, Cortez\, CO 81321\, 
 USA
URL;VALUE=URI:https://www.cortez.k12.co.us/our-schools/mchs/calendar/892640
 9/jazz-band-practice
DTSTART:20260610T130000Z
DTEND:20260610T135500Z
END:VEVENT
END:VCALENDAR
