BEGIN:VCALENDAR
VERSION:2.0
PRODID:SchoolNow
CALSCALE:GREGORIAN
BEGIN:VEVENT
UID:e9703598-227c-11f1-b4b3-0affed9a5d31
DTSTAMP:20260421T150540Z
SUMMARY:Jazz Band Practice
LOCATION:Montezuma-Cortez High School\, 418 Sligo St\, Cortez\, CO 81321\, 
 USA
URL;VALUE=URI:https://www.cortez.k12.co.us/our-schools/mchs/calendar/892641
 0/jazz-band-practice
DTSTART:20260615T130000Z
DTEND:20260615T135500Z
END:VEVENT
END:VCALENDAR
