BEGIN:VCALENDAR
VERSION:2.0
PRODID:SchoolNow
CALSCALE:GREGORIAN
BEGIN:VEVENT
UID:e9908744-227c-11f1-96f7-0affed9a5d31
DTSTAMP:20260421T090041Z
SUMMARY:Youth Volleyball Practice
LOCATION:Montezuma-Cortez High School\, 418 Sligo St\, Cortez\, CO 81321\, 
 USA
URL;VALUE=URI:https://www.cortez.k12.co.us/our-schools/mchs/calendar/892641
 6/youth-volleyball-practice
DTSTART:20260331T003000Z
DTEND:20260331T020000Z
END:VEVENT
END:VCALENDAR
