BEGIN:VCALENDAR
VERSION:2.0
PRODID:SchoolNow
CALSCALE:GREGORIAN
BEGIN:VEVENT
UID:e990899c-227c-11f1-962f-0affed9a5d31
DTSTAMP:20260421T090041Z
SUMMARY:Youth Volleyball Practice
LOCATION:Montezuma-Cortez High School\, 418 Sligo St\, Cortez\, CO 81321\, 
 USA
URL;VALUE=URI:https://www.cortez.k12.co.us/our-schools/mchs/calendar/892641
 8/youth-volleyball-practice
DTSTART:20260407T003000Z
DTEND:20260407T020000Z
END:VEVENT
END:VCALENDAR
