BEGIN:VCALENDAR
VERSION:2.0
PRODID:SchoolNow
CALSCALE:GREGORIAN
BEGIN:VEVENT
UID:637bf3ec-2d3e-11f1-8424-02f3e6969821
DTSTAMP:20260421T090040Z
SUMMARY:Girls Basketball Banquet
LOCATION:Montezuma-Cortez High School\, 418 Sligo St\, Cortez\, CO 81321\, 
 USA
URL;VALUE=URI:https://www.cortez.k12.co.us/our-schools/mchs/calendar/896096
 2/girls-basketball-banquet
DTSTART:20260403T003000Z
DTEND:20260403T020000Z
END:VEVENT
END:VCALENDAR
