BEGIN:VCALENDAR
VERSION:2.0
PRODID:SchoolNow
CALSCALE:GREGORIAN
BEGIN:VEVENT
UID:637bfa86-2d3e-11f1-88f8-02f3e6969821
DTSTAMP:20260421T090040Z
SUMMARY:CMAS Testing
LOCATION:Montezuma-Cortez High School\, 418 Sligo St\, Cortez\, CO 81321\, 
 USA
URL;VALUE=URI:https://www.cortez.k12.co.us/our-schools/mchs/calendar/896096
 3/cmas-testing
DTSTART:20260407T140000Z
DTEND:20260407T181500Z
END:VEVENT
END:VCALENDAR
