BEGIN:VCALENDAR
VERSION:2.0
PRODID:SchoolNow
CALSCALE:GREGORIAN
BEGIN:VEVENT
UID:de892654-3766-11f1-88f8-0a58a9feac02
DTSTAMP:20260421T090040Z
SUMMARY:Track & Field @ Ron Keller Invitational
LOCATION:Durango High School\, 2390 Main Ave\, Durango\, CO 81301\, USA
URL;VALUE=URI:https://www.cortez.k12.co.us/our-schools/mchs/calendar/899102
 0/track-field-ron-keller-invitational
DTSTART:20260418T123000Z
DTEND:20260419T000000Z
END:VEVENT
END:VCALENDAR
