BEGIN:VCALENDAR
VERSION:2.0
PRODID:SchoolNow
CALSCALE:GREGORIAN
BEGIN:VEVENT
UID:de892992-3766-11f1-a728-0a58a9feac02
DTSTAMP:20260421T090040Z
SUMMARY:Girls Soccer @ Bayfield
LOCATION:Bayfield High School\, 800 Co Rd 501\, Bayfield\, CO 81122\, USA
URL;VALUE=URI:https://www.cortez.k12.co.us/our-schools/mchs/calendar/899102
 1/girls-soccer-bayfield
DTSTART:20260421T200000Z
DTEND:20260422T003000Z
END:VEVENT
END:VCALENDAR
