BEGIN:VCALENDAR
VERSION:2.0
PRODID:SchoolNow
CALSCALE:GREGORIAN
BEGIN:VEVENT
UID:de892b68-3766-11f1-9ffd-0a58a9feac02
DTSTAMP:20260421T090040Z
SUMMARY:Art @ IML Show
LOCATION:Pagosa Springs High\, 800 S 8th St\, Pagosa Springs\, CO 81147\, U
 SA
URL;VALUE=URI:https://www.cortez.k12.co.us/our-schools/mchs/calendar/899102
 2/art-iml-show
DTSTART:20260423T140000Z
DTEND:20260424T010000Z
END:VEVENT
END:VCALENDAR
