BEGIN:VCALENDAR
VERSION:2.0
PRODID:SchoolNow
CALSCALE:GREGORIAN
BEGIN:VEVENT
UID:de892da2-3766-11f1-8706-0a58a9feac02
DTSTAMP:20260421T090040Z
SUMMARY:Baseball v. Blanding (Varsity & JV)
LOCATION:Parque de Vida - Rotary Ball Fields\, 540 Roger Smith Ave\, Cortez
 \, CO 81321\, USA
URL;VALUE=URI:https://www.cortez.k12.co.us/our-schools/mchs/calendar/899102
 4/baseball-v-blanding-varsity-jv
DTSTART:20260427T210000Z
DTEND:20260428T003000Z
END:VEVENT
END:VCALENDAR
