BEGIN:VCALENDAR
VERSION:2.0
PRODID:SchoolNow
CALSCALE:GREGORIAN
BEGIN:VEVENT
UID:de892e92-3766-11f1-8bef-0a58a9feac02
DTSTAMP:20260421T090040Z
SUMMARY:Girls Golf @ Pinon Hills
LOCATION:Piñon Hills Golf Course\, 2101 Sunrise Pkwy\, Farmington\, NM 874
 01\, USA
URL;VALUE=URI:https://www.cortez.k12.co.us/our-schools/mchs/calendar/899102
 5/girls-golf-pinon-hills
DTSTART:20260420T130000Z
DTEND:20260420T210000Z
END:VEVENT
END:VCALENDAR
