BEGIN:VCALENDAR
VERSION:2.0
PRODID:SchoolNow
CALSCALE:GREGORIAN
BEGIN:VEVENT
UID:de892f82-3766-11f1-9000-0a58a9feac02
DTSTAMP:20260421T090040Z
SUMMARY:JV Baseball @ Alamosa (Double Header)
LOCATION:Alamosa High School\, 805 Craft Dr\, Alamosa\, CO 81101\, USA
URL;VALUE=URI:https://www.cortez.k12.co.us/our-schools/mchs/calendar/899102
 6/jv-baseball-alamosa-double-header
DTSTART;VALUE=DATE:20260425
DTEND;VALUE=DATE:20260426
END:VEVENT
END:VCALENDAR
