BEGIN:VCALENDAR
VERSION:2.0
PRODID:SchoolNow
CALSCALE:GREGORIAN
BEGIN:VEVENT
UID:de89314e-3766-11f1-a9f3-0a58a9feac02
DTSTAMP:20260421T090040Z
SUMMARY:Baseball v. Alamosa (Double Header)
LOCATION:Parque de Vida - Rotary Ball Fields\, 540 Roger Smith Ave\, Cortez
 \, CO 81321\, USA
URL;VALUE=URI:https://www.cortez.k12.co.us/our-schools/mchs/calendar/899102
 7/baseball-v-alamosa-double-header
DTSTART:20260424T190000Z
DTEND:20260424T233000Z
END:VEVENT
END:VCALENDAR
