BEGIN:VCALENDAR
VERSION:2.0
PRODID:SchoolNow
CALSCALE:GREGORIAN
BEGIN:VEVENT
UID:de89323e-3766-11f1-b3f7-0a58a9feac02
DTSTAMP:20260421T090040Z
SUMMARY:Choir @ CHSAA Festival
LOCATION:Bayfield High School\, 800 Co Rd 501\, Bayfield\, CO 81122\, USA
URL;VALUE=URI:https://www.cortez.k12.co.us/our-schools/mchs/calendar/899102
 8/choir-chsaa-festival
DTSTART:20260421T133000Z
DTEND:20260422T043000Z
END:VEVENT
END:VCALENDAR
