BEGIN:VCALENDAR
VERSION:2.0
PRODID:SchoolNow
CALSCALE:GREGORIAN
BEGIN:VEVENT
UID:de893324-3766-11f1-87f2-0a58a9feac02
DTSTAMP:20260421T090040Z
SUMMARY:Girls Golf @ Montrose
LOCATION:Montrose\, CO\, USA
URL;VALUE=URI:https://www.cortez.k12.co.us/our-schools/mchs/calendar/899102
 9/girls-golf-montrose
DTSTART;VALUE=DATE:20260412
DTEND;VALUE=DATE:20260415
END:VEVENT
END:VCALENDAR
