BEGIN:VCALENDAR
VERSION:2.0
PRODID:SchoolNow
CALSCALE:GREGORIAN
BEGIN:VEVENT
UID:de8934e6-3766-11f1-a049-0a58a9feac02
DTSTAMP:20260421T090040Z
SUMMARY:Girls Soccer v. Pagosa Springs
LOCATION:Montezuma-Cortez High School\, 418 Sligo St\, Cortez\, CO 81321\, 
 USA
URL;VALUE=URI:https://www.cortez.k12.co.us/our-schools/mchs/calendar/899103
 1/girls-soccer-v-pagosa-springs
DTSTART:20260418T170000Z
DTEND:20260418T190000Z
END:VEVENT
END:VCALENDAR
