BEGIN:VCALENDAR
VERSION:2.0
PRODID:SchoolNow
CALSCALE:GREGORIAN
BEGIN:VEVENT
UID:de8935c2-3766-11f1-b8af-0a58a9feac02
DTSTAMP:20260421T090040Z
SUMMARY:Baseball @ Pagosa Springs
LOCATION:Pagosa Springs High\, 800 S 8th St\, Pagosa Springs\, CO 81147\, U
 SA
URL;VALUE=URI:https://www.cortez.k12.co.us/our-schools/mchs/calendar/899103
 2/baseball-pagosa-springs
DTSTART;VALUE=DATE:20260418
DTEND;VALUE=DATE:20260419
END:VEVENT
END:VCALENDAR
