BEGIN:VCALENDAR
VERSION:2.0
PRODID:SchoolNow
CALSCALE:GREGORIAN
BEGIN:VEVENT
UID:de89369e-3766-11f1-8e56-0a58a9feac02
DTSTAMP:20260421T090040Z
SUMMARY:Girls Golf @ Conquistador
LOCATION:Conquistador Golf Course\, 2018 N Dolores Rd\, Cortez\, CO 81321\,
  USA
URL;VALUE=URI:https://www.cortez.k12.co.us/our-schools/mchs/calendar/899103
 3/girls-golf-conquistador
DTSTART:20260428T140000Z
DTEND:20260428T210000Z
END:VEVENT
END:VCALENDAR
