BEGIN:VCALENDAR
VERSION:2.0
PRODID:SchoolNow
CALSCALE:GREGORIAN
BEGIN:VEVENT
UID:de893784-3766-11f1-a476-0a58a9feac02
DTSTAMP:20260421T090040Z
SUMMARY:Girls Soccer @ Durango
LOCATION:Durango High School\, 2390 Main Ave\, Durango\, CO 81301\, USA
URL;VALUE=URI:https://www.cortez.k12.co.us/our-schools/mchs/calendar/899103
 4/girls-soccer-durango
DTSTART:20260414T210000Z
DTEND:20260415T003000Z
END:VEVENT
END:VCALENDAR
