BEGIN:VCALENDAR
VERSION:2.0
PRODID:SchoolNow
CALSCALE:GREGORIAN
BEGIN:VEVENT
UID:de893860-3766-11f1-8883-0a58a9feac02
DTSTAMP:20260421T090040Z
SUMMARY:Prom- Under the Lanterns
LOCATION:Montezuma-Cortez High School\, 418 Sligo St\, Cortez\, CO 81321\, 
 USA
URL;VALUE=URI:https://www.cortez.k12.co.us/our-schools/mchs/calendar/899103
 5/prom-under-the-lanterns
DTSTART:20260426T010000Z
DTEND:20260426T050000Z
END:VEVENT
END:VCALENDAR
