BEGIN:VCALENDAR
VERSION:2.0
PRODID:SchoolNow
CALSCALE:GREGORIAN
BEGIN:VEVENT
UID:de89393c-3766-11f1-ac9d-0a58a9feac02
DTSTAMP:20260421T090040Z
SUMMARY:Girls Golf @ Hillcrest Golf Club
LOCATION:Hillcrest Golf Club\, 2300 Rim Dr\, Durango\, CO 81301\, USA
URL;VALUE=URI:https://www.cortez.k12.co.us/our-schools/mchs/calendar/899103
 6/girls-golf-hillcrest-golf-club
DTSTART;VALUE=DATE:20260427
DTEND;VALUE=DATE:20260428
END:VEVENT
END:VCALENDAR
