BEGIN:VCALENDAR
VERSION:2.0
PRODID:SchoolNow
CALSCALE:GREGORIAN
BEGIN:VEVENT
UID:de893a18-3766-11f1-8d3a-0a58a9feac02
DTSTAMP:20260421T090040Z
SUMMARY:Track & Field @ Alamosa
LOCATION:Alamosa High School\, 805 Craft Dr\, Alamosa\, CO 81101\, USA
URL;VALUE=URI:https://www.cortez.k12.co.us/our-schools/mchs/calendar/899103
 7/track-field-alamosa
DTSTART:20260423T200000Z
DTEND:20260424T153000Z
END:VEVENT
END:VCALENDAR
