BEGIN:VCALENDAR
VERSION:2.0
PRODID:SchoolNow
CALSCALE:GREGORIAN
BEGIN:VEVENT
UID:de893af4-3766-11f1-b157-0a58a9feac02
DTSTAMP:20260421T090040Z
SUMMARY:Girls Soccer v. Alamosa
LOCATION:Montezuma-Cortez High School\, 418 Sligo St\, Cortez\, CO 81321\, 
 USA
URL;VALUE=URI:https://www.cortez.k12.co.us/our-schools/mchs/calendar/899103
 8/girls-soccer-v-alamosa
DTSTART:20260417T210000Z
DTEND:20260417T230000Z
END:VEVENT
END:VCALENDAR
