BEGIN:VCALENDAR
VERSION:2.0
PRODID:SchoolNow
CALSCALE:GREGORIAN
BEGIN:VEVENT
UID:de893bc6-3766-11f1-a6e6-0a58a9feac02
DTSTAMP:20260421T090040Z
SUMMARY:JV Baseball v. Pagosa Springs (Double Header)
LOCATION:Parque de Vida - Rotary Ball Fields\, 540 Roger Smith Ave\, Cortez
 \, CO 81321\, USA
URL;VALUE=URI:https://www.cortez.k12.co.us/our-schools/mchs/calendar/899103
 9/jv-baseball-v-pagosa-springs-double-header
DTSTART:20260417T210000Z
DTEND:20260418T010000Z
END:VEVENT
END:VCALENDAR
