BEGIN:VCALENDAR
VERSION:2.0
PRODID:SchoolNow
CALSCALE:GREGORIAN
BEGIN:VEVENT
UID:df728fe2-3766-11f1-bcbb-0a58a9feac02
DTSTAMP:20260421T090041Z
SUMMARY:Football Weight Lifitng
LOCATION:Montezuma-Cortez High School\, 418 Sligo St\, Cortez\, CO 81321\, 
 USA
URL;VALUE=URI:https://www.cortez.k12.co.us/our-schools/mchs/calendar/899104
 4/football-weight-lifitng
DTSTART:20260423T223000Z
DTEND:20260424T000000Z
END:VEVENT
END:VCALENDAR
