BEGIN:VCALENDAR
VERSION:2.0
PRODID:SchoolNow
CALSCALE:GREGORIAN
BEGIN:VEVENT
UID:df729654-3766-11f1-b302-0a58a9feac02
DTSTAMP:20260421T090041Z
SUMMARY:Football Weight Lifitng
LOCATION:Montezuma-Cortez High School\, 418 Sligo St\, Cortez\, CO 81321\, 
 USA
URL;VALUE=URI:https://www.cortez.k12.co.us/our-schools/mchs/calendar/899105
 1/football-weight-lifitng
DTSTART:20260518T223000Z
DTEND:20260519T000000Z
END:VEVENT
END:VCALENDAR
