BEGIN:VCALENDAR
VERSION:2.0
PRODID:SchoolNow
CALSCALE:GREGORIAN
BEGIN:VEVENT
UID:df8396ac-3766-11f1-be8a-0a58a9feac02
DTSTAMP:20260421T090041Z
SUMMARY:Theater Rehearsal
URL;VALUE=URI:https://www.cortez.k12.co.us/our-schools/mchs/calendar/899105
 2/theater-rehearsal
DTSTART:20260413T223000Z
DTEND:20260414T003000Z
END:VEVENT
END:VCALENDAR
