BEGIN:VCALENDAR
VERSION:2.0
PRODID:SchoolNow
CALSCALE:GREGORIAN
BEGIN:VEVENT
UID:df839b84-3766-11f1-943b-0a58a9feac02
DTSTAMP:20260421T090041Z
SUMMARY:Theater Rehearsal
URL;VALUE=URI:https://www.cortez.k12.co.us/our-schools/mchs/calendar/899105
 4/theater-rehearsal
DTSTART:20260415T223000Z
DTEND:20260416T003000Z
END:VEVENT
END:VCALENDAR
