BEGIN:VCALENDAR
VERSION:2.0
PRODID:SchoolNow
CALSCALE:GREGORIAN
BEGIN:VEVENT
UID:df83a070-3766-11f1-9fc5-0a58a9feac02
DTSTAMP:20260421T090041Z
SUMMARY:Boys Basketball 3 v. 3
LOCATION:Montezuma-Cortez High School\, 418 Sligo St\, Cortez\, CO 81321\, 
 USA
URL;VALUE=URI:https://www.cortez.k12.co.us/our-schools/mchs/calendar/899105
 9/boys-basketball-3-v-3
DTSTART:20260429T010000Z
DTEND:20260429T030000Z
END:VEVENT
END:VCALENDAR
