BEGIN:VCALENDAR
VERSION:2.0
PRODID:SchoolNow
CALSCALE:GREGORIAN
BEGIN:VEVENT
UID:df83a14c-3766-11f1-bb14-0a58a9feac02
DTSTAMP:20260421T090041Z
SUMMARY:Boys Basketball 3 v. 3
LOCATION:Montezuma-Cortez High School\, 418 Sligo St\, Cortez\, CO 81321\, 
 USA
URL;VALUE=URI:https://www.cortez.k12.co.us/our-schools/mchs/calendar/899106
 0/boys-basketball-3-v-3
DTSTART:20260501T010000Z
DTEND:20260501T030000Z
END:VEVENT
END:VCALENDAR
